BEGIN:VCALENDAR
VERSION:2.0
PRODID:-//wp-events-plugin.com//7.2.3.1//EN
TZID:Australia/Sydney
X-WR-TIMEZONE:Australia/Sydney
BEGIN:VEVENT
UID:102@ufor.asn.au
DTSTART;TZID=Australia/Sydney:20230603T130000
DTEND;TZID=Australia/Sydney:20230603T170000
DTSTAMP:20230527T031645Z
URL:https://www.ufor.asn.au/events/steve-and-evan-strong/
SUMMARY:STEVE AND EVAN STRONG
DESCRIPTION:The Pentagon and US Government called upon scientists and exper
 ts to compile a report of UFOs flying in the sky. Their findings were it w
 as possibly Russian\, or Chinese and then again\, there is a remote chance
  that Aliens wereÂ the pilots. See rock solid empirical proof\, thatÂ 
  Aliens have not just popped in for a sight-seeing visit\, but resided on 
 this planet.
ATTACH;FMTTYPE=image/jpeg:https://www.ufor.asn.au/wp-content/uploads/2023/
 05/steve_evan_strong_330x275.jpg
CATEGORIES:Talks
LOCATION:Club Burwood\, 97 Burwood Road\, Burwood\, NSW\, Australia
GEO:-33.87624;151.103655
X-APPLE-STRUCTURED-LOCATION;VALUE=URI;X-ADDRESS=97 Burwood Road\, Burwood\,
  NSW\, Australia;X-APPLE-RADIUS=100;X-TITLE=Club Burwood:geo:-33.87624,151
 .103655
END:VEVENT
BEGIN:VTIMEZONE
TZID:Australia/Sydney
X-LIC-LOCATION:Australia/Sydney
BEGIN:STANDARD
DTSTART:20230402T020000
TZOFFSETFROM:+1100
TZOFFSETTO:+1000
TZNAME:AEST
END:STANDARD
END:VTIMEZONE
END:VCALENDAR