BEGIN:VCALENDAR
VERSION:2.0
PRODID:-//wp-events-plugin.com//7.2.3.1//EN
TZID:Australia/Sydney
X-WR-TIMEZONE:Australia/Sydney
BEGIN:VEVENT
UID:130@ufor.asn.au
DTSTART;TZID=Australia/Sydney:20251206T123000
DTEND;TZID=Australia/Sydney:20251206T163000
DTSTAMP:20251119T225502Z
URL:https://www.ufor.asn.au/events/stanta-claus-is-coming-to-town/
SUMMARY:STANTA CLAUS IS COMING TO TOWN
DESCRIPTION:With the Big Guy's arrival being just around the corner\, we 
 would love you to join us\, to celebrate Christmas and the winding up o
 f another successful year. It will be held on Saturday\, 6 December at Cl
 ub Burwood starting from 12.30pm onwards. Friends and family are also ver
 y welcome. We will have an in-room bar service and you can order lunch
  from Café 97 downstairs (at your own expense). We will be having a ra
 ffle (to be an annual event)\, so please be sure to bring along a bit of c
 ash to try your luck. 
ATTACH;FMTTYPE=image/jpeg:https://www.ufor.asn.au/wp-content/uploads/2025/
 11/Christmas_2025_330x275.jpg
CATEGORIES:Xmas Party
LOCATION:Club Burwood\, 97 Burwood Road\, Burwood\, NSW\, Australia
GEO:-33.87624;151.103655
X-APPLE-STRUCTURED-LOCATION;VALUE=URI;X-ADDRESS=97 Burwood Road\, Burwood\,
  NSW\, Australia;X-APPLE-RADIUS=100;X-TITLE=Club Burwood:geo:-33.87624,151
 .103655
END:VEVENT
BEGIN:VTIMEZONE
TZID:Australia/Sydney
X-LIC-LOCATION:Australia/Sydney
BEGIN:DAYLIGHT
DTSTART:20251005T030000
TZOFFSETFROM:+1000
TZOFFSETTO:+1100
TZNAME:AEDT
END:DAYLIGHT
END:VTIMEZONE
END:VCALENDAR