BEGIN:VCALENDAR
VERSION:2.0
PRODID:-//wp-events-plugin.com//7.2.3.1//EN
TZID:Australia/Sydney
X-WR-TIMEZONE:Australia/Sydney
BEGIN:VEVENT
UID:101@ufor.asn.au
DTSTART;TZID=Australia/Sydney:20230506T130000
DTEND;TZID=Australia/Sydney:20230506T170000
DTSTAMP:20230425T041725Z
URL:https://www.ufor.asn.au/events/karen-mutton/
SUMMARY:KAREN MUTTON
DESCRIPTION:ForÂ our MayÂ meeting we are delighted to be presentingÂ 
 Karen Mutton. Karen last spoke\, at aÂ UFORÂ meeting\, in 2018 and we 
 are hosting her again by popular demand. Karen has written sixÂ books on
  ancient history and finance.Â Karen will be giving two individual prese
 ntations:Â  1) Digital ID-Â Â what isÂ the ultimate goal? 2) Â S
 ubterranean StructuresÂ of theÂ AncientÂ World
ATTACH;FMTTYPE=image/jpeg:https://www.ufor.asn.au/wp-content/uploads/2023/
 04/karen_mutton_330x275.jpg
CATEGORIES:Talks
LOCATION:Club Burwood\, 97 Burwood Road\, Burwood\, NSW\, Australia
GEO:-33.87624;151.103655
X-APPLE-STRUCTURED-LOCATION;VALUE=URI;X-ADDRESS=97 Burwood Road\, Burwood\,
  NSW\, Australia;X-APPLE-RADIUS=100;X-TITLE=Club Burwood:geo:-33.87624,151
 .103655
END:VEVENT
BEGIN:VTIMEZONE
TZID:Australia/Sydney
X-LIC-LOCATION:Australia/Sydney
BEGIN:STANDARD
DTSTART:20230402T020000
TZOFFSETFROM:+1100
TZOFFSETTO:+1000
TZNAME:AEST
END:STANDARD
END:VTIMEZONE
END:VCALENDAR