BEGIN:VCALENDAR
VERSION:2.0
PRODID:-//wp-events-plugin.com//7.2.3.1//EN
TZID:Australia/Sydney
X-WR-TIMEZONE:Australia/Sydney
BEGIN:VEVENT
UID:133@ufor.asn.au
DTSTART;TZID=Australia/Sydney:20260404T130000
DTEND;TZID=Australia/Sydney:20260404T170000
DTSTAMP:20260324T000634Z
URL:https://www.ufor.asn.au/events/easter-weekend-meeting/
SUMMARY:EASTER WEEKEND MEETING
DESCRIPTION:Over the long Easter break\, we are having a casual April mee
 ting with several short doco's (selected carefully by the team) and enco
 uraging audience interaction. There will also be an Open Forum for anyone 
 keen to say why you got interested in the UFO field and how it led you t
 o join our group. This will enable you to talk about your UFO experiences
  and we will open the floor for participation on other current topics. W
 ith so much happening around the world\, nothing will be off limits. 
ATTACH;FMTTYPE=image/jpeg:https://www.ufor.asn.au/wp-content/uploads/2026/
 03/Easter2026_330x275.jpg
CATEGORIES:Talks
LOCATION:Club Burwood\, 97 Burwood Road\, Burwood\, NSW\, Australia
GEO:-33.87624;151.103655
X-APPLE-STRUCTURED-LOCATION;VALUE=URI;X-ADDRESS=97 Burwood Road\, Burwood\,
  NSW\, Australia;X-APPLE-RADIUS=100;X-TITLE=Club Burwood:geo:-33.87624,151
 .103655
END:VEVENT
BEGIN:VTIMEZONE
TZID:Australia/Sydney
X-LIC-LOCATION:Australia/Sydney
BEGIN:DAYLIGHT
DTSTART:20251005T030000
TZOFFSETFROM:+1000
TZOFFSETTO:+1100
TZNAME:AEDT
END:DAYLIGHT
END:VTIMEZONE
END:VCALENDAR