BEGIN:VCALENDAR
VERSION:2.0
PRODID:-//wp-events-plugin.com//7.2.3.1//EN
TZID:Australia/Sydney
X-WR-TIMEZONE:Australia/Sydney
BEGIN:VEVENT
UID:134@ufor.asn.au
DTSTART;TZID=Australia/Sydney:20260502T130000
DTEND;TZID=Australia/Sydney:20260502T170000
DTSTAMP:20260425T064919Z
URL:https://www.ufor.asn.au/events/dr-tony-jinks/
SUMMARY:DR TONY JINKS
DESCRIPTION:We are delighted to welcome back Tony Jinks\, who last spoke fo
 r UFOR nine years ago. Tony has been a senior lecturer in the Discipline o
 f Psychological Science ACAP University College since 2022 and teaches cog
 nitive science and advanced statistical methods. His research focus is the
  psychology of anomalous belief and experience\, and modes of consciousnes
 s. The talk will provide\, a general background to traditional and contemp
 orary theories of hauntings.
ATTACH;FMTTYPE=image/jpeg:https://www.ufor.asn.au/wp-content/uploads/2026/
 04/3sisters_330x275.jpg
CATEGORIES:Talks
LOCATION:Club Burwood\, 97 Burwood Road\, Burwood\, NSW\, Australia
GEO:-33.87624;151.103655
X-APPLE-STRUCTURED-LOCATION;VALUE=URI;X-ADDRESS=97 Burwood Road\, Burwood\,
  NSW\, Australia;X-APPLE-RADIUS=100;X-TITLE=Club Burwood:geo:-33.87624,151
 .103655
END:VEVENT
BEGIN:VTIMEZONE
TZID:Australia/Sydney
X-LIC-LOCATION:Australia/Sydney
BEGIN:STANDARD
DTSTART:20260405T020000
TZOFFSETFROM:+1100
TZOFFSETTO:+1000
TZNAME:AEST
END:STANDARD
END:VTIMEZONE
END:VCALENDAR