BEGIN:VCALENDAR
VERSION:2.0
PRODID:-//wp-events-plugin.com//7.2.3.1//EN
TZID:Australia/Sydney
X-WR-TIMEZONE:Australia/Sydney
BEGIN:VEVENT
UID:35@ufor.asn.au
DTSTART;TZID=Australia/Sydney:20160807T100000
DTEND;TZID=Australia/Sydney:20160807T170000
DTSTAMP:20160717T035500Z
URL:https://www.ufor.asn.au/events/7-august-2016-workshop-by-dr-michael-sa
 lla-usa/
SUMMARY:7 August 2016 Workshop Hosted by Dr Michael Salla (USA)
DESCRIPTION:Advance notice of all dayÂ workshop hostedÂ by Dr Michael S
 alla.Â  The subjects will be: Nazi UFOs\, Kennedy assassination\,Â dis
 closure ofÂ secret space programs and extra-terrestrial alliances.\n\nTh
 e workshop will focus on the exo-politics behind the Nazi infiltration of 
 the USA military industrial complex in the 1950s and 1960s.Â  This will 
 includeÂ the role of John F Kennedy\, who heroically attempted to regain
  Presidential control over classified UFO information.Â  Kennedyâ€™
 s knowledge of the Nazi secret space program will be presented to substant
 iate a shocking connection to his assassination.\n\nThe recent emergence o
 f three whistle-blowers claiming to have served in 20 year tours of duty w
 ith different secret space programs will beÂ assessed.\n\nThe recent tes
 timonies of Corey Goode and William Tompkins will be discussed in terms of
  theÂ officially sanctioned efforts byÂ US military services to promot
 e full disclosure.Â  Goodeâ€™s and Tompkinsâ€™ claims ofÂ se
 cret negotiations deciding theÂ disclosure ofÂ antigravity technologie
 s\, advanced health and life extension technologies\,Â the existence of 
 subterraneanÂ civilizations\, and extra-terrestrials will be examined.\n
 \nDr Michael Salla is the author of the Amazon.com best seller\, Insiders 
 Reveal Secret Space Programs and Extra-terrestrial Alliances (September 20
 15).Â Â He has heldÂ academic positions at the Australian National U
 niversity (ANU)\,Â American University (Washington DC)\,Â Queensland U
 niversity and George Washington University.Â  He has been interviewed fo
 r the Ancient Aliens\, and is a regular guest on Coast to Coast AM Radio (
 USA).\n\nMichael's website: exopolitics.org\n\nMichael will have hisÂ bo
 oks\, Kennedy's Last Stand\, and Insiders Reveal Secret Space Programs and
  Extra-terrestrial Alliances\,Â on sale at theÂ workshop for $25 and $
 30 respectively.\n\nThe introductoryÂ lecture is being held on the 6 Aug
 ust 2016 at the same venue.\n\nLectures and workshopsÂ are also being he
 ld in Brisbane 29 and 31 July 2016\, and MelbourneÂ 3 August 2016.\n\n\n
 \n\n\nWorkshop entryÂ isÂ $85 for members and non-members.Â  Seating
  number is limitedÂ therefore advance payment using PayPal is recommende
 d.\n\nPayments can be made at the door or in advance usingÂ  \n\nFee inc
 ludes morning and afternoon tea\, coffee and biscuits/cakesÂ served in t
 he meeting room.\n\nThere is free parking beneath the club.Â  The West R
 yde Railway Station is near the club.
ATTACH;FMTTYPE=image/jpeg:https://www.ufor.asn.au/wp-content/uploads/2016/
 05/MichaelSalla300x250.jpg
LOCATION:Ryde Eastwood Leagues Club\, 117 Ryedale Road\, West Ryde\, New So
 uth Wales\, 2114\, Australia
GEO:-33.8050797;151.09157730000004
X-APPLE-STRUCTURED-LOCATION;VALUE=URI;X-ADDRESS=117 Ryedale Road\, West Ryd
 e\, New South Wales\, 2114\, Australia;X-APPLE-RADIUS=100;X-TITLE=Ryde Eas
 twood Leagues Club:geo:-33.8050797,151.09157730000004
END:VEVENT
BEGIN:VTIMEZONE
TZID:Australia/Sydney
X-LIC-LOCATION:Australia/Sydney
BEGIN:STANDARD
DTSTART:20160403T020000
TZOFFSETFROM:+1100
TZOFFSETTO:+1000
TZNAME:AEST
END:STANDARD
END:VTIMEZONE
END:VCALENDAR