BEGIN:VCALENDAR
VERSION:2.0
PRODID:-//wp-events-plugin.com//7.2.3.1//EN
TZID:Australia/Sydney
X-WR-TIMEZONE:Australia/Sydney
BEGIN:VEVENT
UID:34@ufor.asn.au
DTSTART;TZID=Australia/Sydney:20160806T130000
DTEND;TZID=Australia/Sydney:20160806T170000
DTSTAMP:20160717T035525Z
URL:https://www.ufor.asn.au/events/6-august-2016-lecture-by-dr-michael-sal
 la-usa/
SUMMARY:6 August 2016 Lecture by Dr Michael Salla (USA)
DESCRIPTION:Advance notice of lecture by Dr Michael Salla\, titled:Â Insi
 ders reveal secret space programs and extra-terrestrial alliances.\n\nThis
  lecture presents key documents and whistle-blower testimony to reveal the
  hidden development of antigravity spacecraft\, successfully developed in 
 pre-WWII Germany and Italy.Â  This technologyÂ is claimed to beÂ rev
 erse engineered by the USA and itsÂ allies\, including Australia.\n\nPar
 ticular focus will be on the development of a Nazi German Secret Space Pro
 gram in Antarctica during the 1940s\, and the evolution of the US Navyâ
 €™s Solar Warden Space Program from the 1950s to 1980s.Â  Both of th
 ese highly classified programs have led to subsequent bases and colonies b
 eing established on the Moon\, Mars and other celestial bodies.\n\nDr Mich
 ael Salla is the author of the Amazon.com best seller\, Insiders Reveal Se
 cret Space Programs and Extra-terrestrial Alliances (September 2015).Â 
 Â He has heldÂ academic positions at the Australian National Universit
 y (ANU)\,Â American University (Washington DC)\,Â Queensland Universit
 y and George Washington University.Â  He has been interviewed for the An
 cient Aliens\, and is a regular guest on Coast to Coast AM Radio (USA).\n\
 nMichael's website:Â exopolitics.org\n\nMichael will have hisÂ books\,
  Kennedy's Last Stand\, and Insiders Reveal Secret Space Programs and Extr
 a-terrestrial Alliances\,Â on sale at the lecture for $25 and $30 respec
 tively.\n\nThe lecture is followed by a workshop on the 7 August 2016 at t
 he same venue.\n\nLectures and workshopsÂ are also being held in Brisban
 e 29 and 31 July 2016\, and MelbourneÂ 3 August 2016.\n\n\n\n\n\nMeeting
  entryÂ is $35 for members and non-members.Â  Seating number is limite
 dÂ therefore advance payment using PayPal is recommended.\n\nPayments ca
 n be made at the door or in advance usingÂ  \n\nThere is free parking be
 neath the club.Â Â The West Ryde Railway Station is near the club.
ATTACH;FMTTYPE=image/jpeg:https://www.ufor.asn.au/wp-content/uploads/2016/
 05/MichaelSalla2_300x250.jpg
LOCATION:Ryde Eastwood Leagues Club\, 117 Ryedale Road\, West Ryde\, New So
 uth Wales\, 2114\, Australia
GEO:-33.8050797;151.09157730000004
X-APPLE-STRUCTURED-LOCATION;VALUE=URI;X-ADDRESS=117 Ryedale Road\, West Ryd
 e\, New South Wales\, 2114\, Australia;X-APPLE-RADIUS=100;X-TITLE=Ryde Eas
 twood Leagues Club:geo:-33.8050797,151.09157730000004
END:VEVENT
BEGIN:VTIMEZONE
TZID:Australia/Sydney
X-LIC-LOCATION:Australia/Sydney
BEGIN:STANDARD
DTSTART:20160403T020000
TZOFFSETFROM:+1100
TZOFFSETTO:+1000
TZNAME:AEST
END:STANDARD
END:VTIMEZONE
END:VCALENDAR